BEGIN:VCALENDAR
VERSION:2.0
PRODID:-//Notes in Rennes - ECPv6.15.20//NONSGML v1.0//EN
CALSCALE:GREGORIAN
METHOD:PUBLISH
X-WR-CALNAME:Notes in Rennes
X-ORIGINAL-URL:https://notes-in-rennes.org
X-WR-CALDESC:Évènements pour Notes in Rennes
REFRESH-INTERVAL;VALUE=DURATION:PT1H
X-Robots-Tag:noindex
X-PUBLISHED-TTL:PT1H
BEGIN:VTIMEZONE
TZID:Europe/Paris
BEGIN:DAYLIGHT
TZOFFSETFROM:+0100
TZOFFSETTO:+0200
TZNAME:CEST
DTSTART:20250330T010000
END:DAYLIGHT
BEGIN:STANDARD
TZOFFSETFROM:+0200
TZOFFSETTO:+0100
TZNAME:CET
DTSTART:20251026T010000
END:STANDARD
BEGIN:DAYLIGHT
TZOFFSETFROM:+0100
TZOFFSETTO:+0200
TZNAME:CEST
DTSTART:20260329T010000
END:DAYLIGHT
BEGIN:STANDARD
TZOFFSETFROM:+0200
TZOFFSETTO:+0100
TZNAME:CET
DTSTART:20261025T010000
END:STANDARD
BEGIN:DAYLIGHT
TZOFFSETFROM:+0100
TZOFFSETTO:+0200
TZNAME:CEST
DTSTART:20270328T010000
END:DAYLIGHT
BEGIN:STANDARD
TZOFFSETFROM:+0200
TZOFFSETTO:+0100
TZNAME:CET
DTSTART:20271031T010000
END:STANDARD
END:VTIMEZONE
BEGIN:VEVENT
DTSTART;TZID=Europe/Paris:20260426T093000
DTEND;TZID=Europe/Paris:20260426T170000
DTSTAMP:20260424T103605
CREATED:20260114T113942Z
LAST-MODIFIED:20260415T215700Z
UID:5334-1777195800-1777222800@notes-in-rennes.org
SUMMARY:Journée 2 répétition Mise En Scène "ROCK MOI SI TU POP"
DESCRIPTION:Vous n’avez pas l’autorisation d’accéder à ce contenu
URL:https://notes-in-rennes.org/agendas/journee-repetition-mise-en-scene-rock-moi-si-tu-pop-2/
LOCATION:Espace EVASION Montgermont\, 2 rue de la Motte\, Montgermont\, 35760\, France
CATEGORIES:Interne
END:VEVENT
BEGIN:VEVENT
DTSTART;TZID=Europe/Paris:20260429T203000
DTEND;TZID=Europe/Paris:20260429T223000
DTSTAMP:20260424T103605
CREATED:20260419T115532Z
LAST-MODIFIED:20260419T115532Z
UID:5740-1777494600-1777501800@notes-in-rennes.org
SUMMARY:Reprise répétition Assomption
DESCRIPTION:Vous n’avez pas l’autorisation d’accéder à ce contenu
URL:https://notes-in-rennes.org/agendas/reprise-repetition-assomption/
LOCATION:Auditorium de l’Assomption\, 18 boulevard Paul Painlevé\, Rennes\, 35700
CATEGORIES:Interne
END:VEVENT
END:VCALENDAR